BEGIN:VCALENDAR
VERSION:2.0
PRODID:-//London Metropolitan Forum - ECPv6.9.1//NONSGML v1.0//EN
CALSCALE:GREGORIAN
METHOD:PUBLISH
X-WR-CALNAME:London Metropolitan Forum
X-ORIGINAL-URL:https://londonmetropolitanforum.org
X-WR-CALDESC:Events for London Metropolitan Forum
REFRESH-INTERVAL;VALUE=DURATION:PT1H
X-Robots-Tag:noindex
X-PUBLISHED-TTL:PT1H
BEGIN:VTIMEZONE
TZID:UTC
BEGIN:STANDARD
TZOFFSETFROM:+0000
TZOFFSETTO:+0000
TZNAME:UTC
DTSTART:20250101T000000
END:STANDARD
END:VTIMEZONE
BEGIN:VEVENT
DTSTART;TZID=UTC:20250501T100000
DTEND;TZID=UTC:20250501T153000
DTSTAMP:20260420T044659
CREATED:20250501T214140Z
LAST-MODIFIED:20250501T214140Z
UID:17525-1746093600-1746113400@londonmetropolitanforum.org
SUMMARY:Faith – Worship Connect
DESCRIPTION:
URL:https://londonmetropolitanforum.org/event/faith-worship-connect/
END:VEVENT
END:VCALENDAR